{
 "currentVersion": 11.5,
 "serviceDescription": "3DBldg_scene_local_to_web_grouped_WEL",
 "serviceItemId": "2d989ba77b5e4337975eb69f1e6f71b6",
 "name": "3DBldg_scene_local_to_web_grouped_WEL",
 "description": "",
 "extent": {
  "xmin": 7639487.9288057685,
  "ymin": 674060.533136487,
  "xmax": 7646785.653871387,
  "ymax": 676705.763779521,
  "spatialReference": {
   "wkid": 2913,
   "latestWkid": 2913
  }
 },
 "initialExtent": {
  "xmin": 7639487.9288057685,
  "ymin": 674060.533136487,
  "xmax": 7646785.653871387,
  "ymax": 676705.763779521,
  "spatialReference": {
   "wkid": 2913,
   "latestWkid": 2913
  }
 },
 "fullExtent": {
  "xmin": 7639487.9288057685,
  "ymin": 674060.533136487,
  "xmax": 7646785.653871387,
  "ymax": 676705.763779521,
  "spatialReference": {
   "wkid": 2913,
   "latestWkid": 2913
  }
 },
 "sortableFields": "",
 "bandCount": 1,
 "pixelType": "F32",
 "minValues": [
  1.2511614561080933
 ],
 "maxValues": [
  780.8323364257812
 ],
 "meanValues": [
  296.03872307368925
 ],
 "stdvValues": [
  225.45089882010967
 ],
 "serviceProperties": "Center<\/MosaicMethod>First<\/MosaicOperator>true<\/SortAscending><\/LockImageID><\/TileOrderField>0<\/TileOrderBase>0.000000<\/AvgImageSpacingX>0.000000<\/AvgImageSpacingY>0.0<\/ViewPointX>0.0<\/ViewPointY>0.0<\/ViewPointDefShiftX>0.0<\/ViewPointDefShiftY>None<\/CompressionMethod>75<\/CompressionQuality>0.100000<\/CompressionTolerance>Bilinear<\/SamplingMethod><\/ImageServiceProperties><\/ImageServer>",
 "allowedFields": "",
 "hasMultidimensions": false,
 "pixelSizeX": 2.999475982580663,
 "pixelSizeY": 2.9991277131904552,
 "meanPixelSize": 0.9141872032355185,
 "datasetFormat": "FGDBR",
 "uncompressedSize": 8573892,
 "blockWidth": 128,
 "blockHeight": 128,
 "compressionType": "LZ77",
 "bandNames": [
  "Band_1"
 ],
 "allowCopy": true,
 "allowAnalysis": true,
 "itemAccess": false,
 "inspectionCapabilities": "",
 "minPixelSize": 3.562430633258884,
 "maxPixelSize": 933869.8159250169,
 "copyrightText": "",
 "serviceDataType": "esriImageServiceDataTypeGeneric",
 "serviceSourceType": "esriImageServiceSourceTypeDataset",
 "objectIdField": "",
 "fields": [],
 "capabilities": "Image,Metadata,Mensuration",
 "defaultMosaicMethod": "Center",
 "allowedMosaicMethods": "",
 "sortField": "",
 "sortValue": null,
 "sortAscending": true,
 "mosaicOperator": "First",
 "defaultCompressionQuality": 75,
 "defaultResamplingMethod": "Bilinear",
 "maxImageHeight": 4100,
 "maxImageWidth": 15000,
 "singleFusedMapCache": true,
 "tileInfo": {
  "rows": 256,
  "cols": 256,
  "dpi": 96,
  "format": "LERC",
  "compressionQuality": 0,
  "lercError": 0.05,
  "origin": {
   "x": -1.1133323670086935E8,
   "y": 1.1766207498292059E8
  },
  "spatialReference": {
   "wkid": 2913,
   "latestWkid": 2913
  },
  "lods": [
   {
    "level": 0,
    "resolution": 933869.8159250169,
    "scale": 1.0758180279456193E9
   },
   {
    "level": 1,
    "resolution": 466934.90796250844,
    "scale": 5.379090139728097E8
   },
   {
    "level": 2,
    "resolution": 233467.45398125422,
    "scale": 2.6895450698640484E8
   },
   {
    "level": 3,
    "resolution": 116733.72699062711,
    "scale": 1.3447725349320242E8
   },
   {
    "level": 4,
    "resolution": 58366.863495313555,
    "scale": 6.723862674660121E7
   },
   {
    "level": 5,
    "resolution": 29183.431747656778,
    "scale": 3.3619313373300605E7
   },
   {
    "level": 6,
    "resolution": 14591.715873828389,
    "scale": 1.6809656686650302E7
   },
   {
    "level": 7,
    "resolution": 7295.857936914194,
    "scale": 8404828.343325151
   },
   {
    "level": 8,
    "resolution": 3647.928968457097,
    "scale": 4202414.171662576
   },
   {
    "level": 9,
    "resolution": 1823.9644842285486,
    "scale": 2101207.085831288
   },
   {
    "level": 10,
    "resolution": 911.9822421142743,
    "scale": 1050603.542915644
   },
   {
    "level": 11,
    "resolution": 455.99112105713715,
    "scale": 525301.771457822
   },
   {
    "level": 12,
    "resolution": 227.99556052856857,
    "scale": 262650.885728911
   },
   {
    "level": 13,
    "resolution": 113.99778026428429,
    "scale": 131325.4428644555
   },
   {
    "level": 14,
    "resolution": 56.998890132142144,
    "scale": 65662.72143222774
   },
   {
    "level": 15,
    "resolution": 28.499445066071072,
    "scale": 32831.36071611387
   },
   {
    "level": 16,
    "resolution": 14.249722533035536,
    "scale": 16415.680358056936
   },
   {
    "level": 17,
    "resolution": 7.124861266517768,
    "scale": 8207.840179028468
   },
   {
    "level": 18,
    "resolution": 3.562430633258884,
    "scale": 4103.920089514234
   }
  ]
 },
 "storageInfo": {
  "storageFormat": "esriMapCacheStorageModeCompactV2",
  "packetSize": 128
 },
 "cacheType": "Elevation",
 "allowRasterFunction": true,
 "rasterFunctionInfos": [
  {
   "name": "None",
   "description": "",
   "help": ""
  }
 ],
 "rasterTypeInfos": [
  {
   "name": "Raster Dataset",
   "description": "Supports all ArcGIS Raster Datasets",
   "help": ""
  }
 ],
 "mensurationCapabilities": "Basic",
 "hasHistograms": true,
 "hasColormap": false,
 "hasRasterAttributeTable": false,
 "minScale": 1.0758180279456193E9,
 "maxScale": 4103.920089514234,
 "minLOD": 0,
 "maxLOD": 18,
 "exportTilesAllowed": false,
 "supportsStatistics": false,
 "supportsAdvancedQueries": false,
 "editFieldsInfo": null,
 "ownershipBasedAccessControlForRasters": null,
 "allowComputeTiePoints": false,
 "useStandardizedQueries": true,
 "advancedQueryCapabilities": {
  "useStandardizedQueries": true,
  "supportsStatistics": false,
  "supportsOrderBy": false,
  "supportsDistinct": false,
  "supportsPagination": false
 },
 "spatialReference": {
  "wkid": 2913,
  "latestWkid": 2913
 }
}
