View In:
ArcGIS JavaScript
ArcGIS Online Map Viewer
ArcGIS Earth
ArcGIS Pro
Service Description:
Map Name: Scene
Legend
All Layers and Tables
Layers:
Description:
Service Item Id: 3cea2a63b3224a31a313bf484b31e4fa
Copyright Text:
Spatial Reference:
2913
(2913)
LatestVCSWkid(0)
Single Fused Map Cache: true
Tile Info:
- Height: 256.0
- Width: 256.0
- DPI: 96.0
-
Levels of Detail: 19
-
Level ID: 0
[ Start Tile, End Tile ]
- Resolution: 933869.8159250169
- Scale: 1.0758180279456193E9
-
Level ID: 1
[ Start Tile, End Tile ]
- Resolution: 466934.90796250844
- Scale: 5.379090139728097E8
-
Level ID: 2
[ Start Tile, End Tile ]
- Resolution: 233467.45398125422
- Scale: 2.6895450698640484E8
-
Level ID: 3
[ Start Tile, End Tile ]
- Resolution: 116733.72699062711
- Scale: 1.3447725349320242E8
-
Level ID: 4
[ Start Tile, End Tile ]
- Resolution: 58366.863495313555
- Scale: 6.723862674660121E7
-
Level ID: 5
[ Start Tile, End Tile ]
- Resolution: 29183.431747656778
- Scale: 3.3619313373300605E7
-
Level ID: 6
[ Start Tile, End Tile ]
- Resolution: 14591.715873828389
- Scale: 1.6809656686650302E7
-
Level ID: 7
[ Start Tile, End Tile ]
- Resolution: 7295.857936914194
- Scale: 8404828.343325151
-
Level ID: 8
[ Start Tile, End Tile ]
- Resolution: 3647.928968457097
- Scale: 4202414.171662576
-
Level ID: 9
[ Start Tile, End Tile ]
- Resolution: 1823.9644842285486
- Scale: 2101207.085831288
-
Level ID: 10
[ Start Tile, End Tile ]
- Resolution: 911.9822421142743
- Scale: 1050603.542915644
-
Level ID: 11
[ Start Tile, End Tile ]
- Resolution: 455.99112105713715
- Scale: 525301.771457822
-
Level ID: 12
[ Start Tile, End Tile ]
- Resolution: 227.99556052856857
- Scale: 262650.885728911
-
Level ID: 13
[ Start Tile, End Tile ]
- Resolution: 113.99778026428429
- Scale: 131325.4428644555
-
Level ID: 14
[ Start Tile, End Tile ]
- Resolution: 56.998890132142144
- Scale: 65662.72143222774
-
Level ID: 15
[ Start Tile, End Tile ]
- Resolution: 28.499445066071072
- Scale: 32831.36071611387
-
Level ID: 16
[ Start Tile, End Tile ]
- Resolution: 14.249722533035536
- Scale: 16415.680358056936
-
Level ID: 17
[ Start Tile, End Tile ]
- Resolution: 7.124861266517768
- Scale: 8207.840179028468
-
Level ID: 18
[ Start Tile, End Tile ]
- Resolution: 3.562430633258884
- Scale: 4103.920089514234
- Format: Mixed
- Compression Quality: 75.0
- Origin: X: -1.1133323670086935E8
Y: 1.1766207498292059E8
- Spatial Reference: 2913
(2913)
LatestVCSWkid(0)
Storage Info:
- Storage Format: esriMapCacheStorageModeCompactV2
- Packet Size: 128
Initial Extent:
XMin: 7641447.49548682
YMin: 676465.0257448528
XMax: 7642405.739763048
YMax: 677114.7233163698
Spatial Reference: 2913
(2913)
LatestVCSWkid(0)
Full Extent:
XMin: 7639487.502556753
YMin: 674058.1114943014
XMax: 7646786.825125424
YMax: 676706.9198751363
Spatial Reference: 2913
(2913)
LatestVCSWkid(0)
Units: esriFeet
Supported Image Format Types: PNG32,PNG24,PNG,JPG,DIB,TIFF,EMF,PS,PDF,GIF,SVG,SVGZ,BMP
Document Info:
Title: Scene
Author:
Comments:
Subject:
Category:
Keywords:
AntialiasingMode: Fast
TextAntialiasingMode: Force
Supports Dynamic Layers: false
MaxRecordCount: 1000
MaxSelectionCount: 0
MaxImageHeight: 4096
MaxImageWidth: 4096
Supported Query Formats: JSON, geoJSON, PBF
Supports Query Data Elements: true
Min Scale: 16415.680358056936
Max Scale: 4103.920089514234
Min LOD: 16
Max LOD: 18
Supports Datum Transformation: true
Child Resources:
Info
Supported Operations:
QueryLegends
Return Updates