View In:
ArcGIS JavaScript
ArcGIS Online Map Viewer
ArcGIS Earth
ArcGIS Pro
Service Description:
Map Name: EPSG_2226_NAD83_California_zone_2_ftUS
Legend
All Layers and Tables
Layers:
Description:
Service Item Id: 674b936e7b0341debf20077e5eaea77b
Copyright Text:
Spatial Reference:
102642
(2226)
LatestVCSWkid(0)
Single Fused Map Cache: true
Tile Info:
- Height: 256.0
- Width: 256.0
- DPI: 96.0
-
Levels of Detail: 22
-
Level ID: 0
[ Start Tile, End Tile ]
- Resolution: 513591.6038121137
- Scale: 5.91657527591555E8
-
Level ID: 1
[ Start Tile, End Tile ]
- Resolution: 256795.80190605644
- Scale: 2.95828763795777E8
-
Level ID: 2
[ Start Tile, End Tile ]
- Resolution: 128397.90095302863
- Scale: 1.47914381897889E8
-
Level ID: 3
[ Start Tile, End Tile ]
- Resolution: 64198.950476513884
- Scale: 7.3957190948944E7
-
Level ID: 4
[ Start Tile, End Tile ]
- Resolution: 32099.475238256942
- Scale: 3.6978595474472E7
-
Level ID: 5
[ Start Tile, End Tile ]
- Resolution: 16049.737619128471
- Scale: 1.8489297737236E7
- Format: MIXED
- Compression Quality: 75.0
- Origin: X: -2.00377E7
Y: 3.02411E7
- Spatial Reference: 102642
(2226)
LatestVCSWkid(0)
Storage Info:
- Storage Format: esriMapCacheStorageModeCompactV2
- Packet Size: 128
Initial Extent:
XMin: 6620846.366510425
YMin: 1820652.4236981664
XMax: 6620854.7791426405
YMax: 1820660.8363303817
Spatial Reference: 102642
(2226)
LatestVCSWkid(0)
Full Extent:
XMin: 6620846.366510425
YMin: 1820652.4236981664
XMax: 6620854.7791426405
YMax: 1820660.8363303817
Spatial Reference: 102642
(2226)
LatestVCSWkid(0)
Units: esriFeet
Supported Image Format Types:
Document Info:
Supports Dynamic Layers: false
Resampling: true
MaxRecordCount: 0
MaxSelectionCount: 0
MaxImageHeight: 0
MaxImageWidth: 0
Supported Query Formats:
Supports Query Data Elements:
Min Scale: 0
Max Scale: 0
Min LOD: 0
Max LOD: 21
Child Resources:
Info
Supported Operations:
QueryLegends
Return Updates