View In:
ArcGIS JavaScript
ArcGIS Online Map Viewer
ArcGIS Earth
ArcGIS Pro
Service Description:
Map Name: Layers
Legend
All Layers and Tables
Layers:
Description:
Service Item Id: bea303ba00f34bb8b08d6ee0e5589507
Copyright Text:
Spatial Reference:
102100
(3857)
LatestVCSWkid(0)
Single Fused Map Cache: true
Tile Info:
- Height: 256.0
- Width: 256.0
- DPI: 96.0
-
Levels of Detail: 19
-
Level ID: 0
[ Start Tile, End Tile ]
- Resolution: 156543.03392800014
- Scale: 5.91657527591555E8
-
Level ID: 1
[ Start Tile, End Tile ]
- Resolution: 78271.51696399994
- Scale: 2.95828763795777E8
-
Level ID: 2
[ Start Tile, End Tile ]
- Resolution: 39135.75848200009
- Scale: 1.47914381897889E8
-
Level ID: 3
[ Start Tile, End Tile ]
- Resolution: 19567.87924099992
- Scale: 7.3957190948944E7
-
Level ID: 4
[ Start Tile, End Tile ]
- Resolution: 9783.93962049996
- Scale: 3.6978595474472E7
-
Level ID: 5
[ Start Tile, End Tile ]
- Resolution: 4891.96981024998
- Scale: 1.8489297737236E7
- Format: PNG8
- Compression Quality: 0.0
- Origin: X: -2.0037508342787E7
Y: 2.0037508342787E7
- Spatial Reference: 102100
(3857)
LatestVCSWkid(0)
Initial Extent:
XMin: -1.3549851477064205E7
YMin: 4708783.953688042
XMax: -1.3490187153864805E7
YMax: 4775381.504587793
Spatial Reference: 102100
(3857)
LatestVCSWkid(0)
Full Extent:
XMin: -1.3534620473476687E7
YMin: 4737855.238354714
XMax: -1.3521213890643625E7
YMax: 4746565.174644732
Spatial Reference: 102100
(3857)
LatestVCSWkid(0)
Units: esriMeters
Supported Image Format Types: PNG32,PNG24,PNG,JPG,DIB,TIFF,EMF,PS,PDF,GIF,SVG,SVGZ,BMP
Document Info:
Title:
Author:
Comments:
Subject:
Category:
Keywords:
AntialiasingMode: Best
TextAntialiasingMode: Force
Supports Dynamic Layers: false
MaxRecordCount: 1000
MaxSelectionCount: 0
MaxImageHeight: 4096
MaxImageWidth: 4096
Supported Query Formats: JSON, AMF, geoJSON
Supports Query Data Elements:
Min Scale: 5.91657527591555E8
Max Scale: 0
Min LOD: 0
Max LOD: 18
Supports Datum Transformation: true
Child Resources:
Info
Supported Operations:
QueryLegends
EstimateExportTilesSize
ExportTiles
Return Updates